Workbook
Name Activity_status: ActivityStatus[Activity status]
Name Activity_status: ActivityStatus[Activity status]
Name Activity_status: ActivityStatus[Activity status]
Name AgreementNumber: OFFSET('INT-Pivots'!#REF!,0,0,COUNTA('INT-Pivots'!#REF!),1)
Name Indicators_detail: IndicatorsAll[]
Name Indicators_detail: IndicatorsAll[]
Name Indicators_detail: IndicatorsAll[]
Name Indicators_detail: IndicatorsAll[]
Name Indicators_detail: IndicatorsAll[]
Name IndicatorsDetail: IndicatorsAll[]
Name IndicatorsDetail: IndicatorsAll[]
Name IndicatorsDetail: IndicatorsAll[]
Name IndicatorsDetail: IndicatorsAll[]
Name IndicatorsDetail: IndicatorsAll[]
Name Objective_status: 'Form validation'!$F$3:$F$4
Name Outcome: #REF!
Name Outcome: #REF!
Name Outcome: #REF!
Name Outcome: #REF!
Name Output: #REF!
Name Output: #REF!
Name Output: #REF!
Name Output: #REF!
Name Output_status: ActivityStatus[Output status]
Name Output_status: ActivityStatus[Output status]
Name Output_status: ActivityStatus[Output status]
Name Slicer_Agreement_filter: #N/A
Name test: ActivityStatus[Activity status]
Name test1: IndicatorsAll[]
Name test2: IndicatorsAll[]

Sheet Please enable macros
B2: Please enable macros to use this document.
B4: If this message appears below the ribbon, click the "Enable Content" button.
B9: If a security warning window pops up, click the "Yes" or "Enable macros" button.
B32: If you don't see either option, go to "File" > "Options" > "Trust Center"
B51: Then go to "Trust Center Settings" > "Macro Settings." Select "Enable all macros" then close and reopen this document.

Sheet Dashboard
B1: Progress dashboard | G1: About the dashboard
B2: ='1.Signature page'!C3 -> Enabling Environment for Electric Buses for Public Transport and their Pilot Deployment in Colombo, Sri Lanka (HDV-23-003)
B3: ='1.Signature page'!C4 -> UNDP Sri Lanka
B5: ACTIVITIES COMPLETED | D5: OUTPUTS COMPLETED
B6: =CONCATENATE(COUNTIF($I$11:$I$31,"yes")," / ",COUNTIF('INT-Pivots'!CB6:CB245,"*")) -> 0 / 20 | D6: =CONCATENATE(COUNTIF($J$11:$J$31,"yes")," / ",COUNTIF('INT-Pivots'!U6:U65,"*")) -> 0 / 12
B9: PROJECT PROGRESS | M9: EXPENDITURE BY ACTIVITY (CCAC funding) | W9: SUMMARY BY COST CATEGORY
B10: Description | C10: Delivery date | D10: =CONCATENATE("Reporting period: ",'1.Signature page'!$C$20) -> Reporting period: 11/10/2024 - 30/06/2025 | E10: =CONCATENATE("Reporting period: ",'1.Signature page'!$C$35) -> Reporting period: 01/07/2025-31/12/2025 | F10: =CONCATENATE("Reporting period: ",'1.Signature page'!$C$50) -> Reporting period: 01/01/2026-30/06/2026 | G10: =CONCATENATE("Reporting period: ",'1.Signature page'!$C$65) -> Reporting period: 01/07/2026-30/11/2026 | H10: =CONCATENATE("Reporting period: ",'1.Signature page'!$C$80) -> Reporting period: | I10: Activity complete | J10: Output complete | K10: Outcome completed | M10: Related activity | N10: Category | O10: Total budget | P10: Total expenditure | Q10: =IF(ISBLANK('1.Signature page'!$C$20),"",CONCATENATE("Reporting period: ",'1.Signature page'!$C$20)) -> Reporting period: 11/10/2024 - 30/06/2025 | R10: =IF(ISBLANK('1.Signature page'!$C$35),"",CONCATENATE("Reporting period: ",'1.Signature page'!$C$35)) -> Reporting period: 01/07/2025-31/12/2025 | S10: =IF(ISBLANK('1.Signature page'!$C$50),"",CONCATENATE("Reporting period: ",'1.Signature page'!$C$50)) -> Reporting period: 01/01/2026-30/06/2026 | T10: =IF(ISBLANK('1.Signature page'!$C$65),"",CONCATENATE("Reporting period: ",'1.Signature page'!$C$65)) -> Reporting period: 01/07/2026-30/11/2026 | U10: =IF(ISBLANK('1.Signature page'!$C$80),"",CONCATENATE("Reporting period: ",'1.Signature page'!$C$80)) | W10: Category | X10: Total budget | Y10: Total expenditure | Z10: Variance
B11: =IF('INT-Pivots'!G6="","",'INT-Pivots'!G6) -> Output 1.2 Designing and developing a long-term comprehensive 'Sustainable Low-Carbon Transport Planning' document that provides a policy and regulatory framework for electric bus transport | C11: =IF('INT-Pivots'!K6="","",IF('INT-Pivots'!K6="(blank)","Project end",VALUE('INT-Pivots'!K6))) -> 45657 | D11: =IF(ISBLANK('2. Narrative'!R6),"",'2. Narrative'!R6) -> On track | E11: =IF(ISBLANK('2. Narrative'!X6),"",'2. Narrative'!X6) -> Delayed | F11: =IF(ISBLANK('2. Narrative'!AD6),"",'2. Narrative'!AD6) | G11: =IF(ISBLANK('2. Narrative'!AJ6),"",'2. Narrative'!AJ6) | H11: =IF(ISBLANK('2. Narrative'!AP6),"",'2. Narrative'!AP6) | I11: =IF(AND(ISNUMBER(SEARCH("Activity",$B11)),COUNTIF($D11:$H11,"Complete")>0),"yes","no") -> no | J11: =IF(AND(ISNUMBER(SEARCH("Output",$B11)),COUNTIF($D11:$H11,"Complete")>0),"yes","no") -> no | K11: =IF(AND(ISNUMBER(SEARCH("Outcome",$B11)),COUNTIF($D11:$H11,"Complete")>0),"yes","no") -> no | N11: Total | O11: =SUM(O12:O210) -> 697675 | P11: =SUM(P12:P150) -> 136779 | Q11: =SUM(Q12:Q150) -> 0 | R11: =SUM(R12:R150) -> 136779 | S11: =SUM(S12:S150) -> 0 | T11: =SUM(T12:T150) -> 0 | U11: =SUM(U12:U150) -> 0 | W11: Total | X11: =SUM(X12:X17) -> 639600 | Y11: =SUM(Y12:Y17) -> 136779 | Z11: =IF(X11="","",IF(ISERROR((Y11-X11)/X11),"",(Y11-X11)/X11)) -> -0.78614916
B12: =IF('INT-Pivots'!G7="","",'INT-Pivots'!G7) -> Activity 1.2.1 A long-term, integrated comprehensive, gender-sensitive and inclusive 'Sustainable Low-Carbon Transport Planning' document prepared for Sri Lanka | C12: =IF('INT-Pivots'!K7="","",IF('INT-Pivots'!K7="(blank)","Project end",VALUE('INT-Pivots'!K7))) -> Project end | D12: =IF(ISBLANK('2. Narrative'!R7),"",'2. Narrative'!R7) -> On track | E12: =IF(ISBLANK('2. Narrative'!X7),"",'2. Narrative'!X7) -> On track | F12: =IF(ISBLANK('2. Narrative'!AD7),"",'2. Narrative'!AD7) | G12: =IF(ISBLANK('2. Narrative'!AJ7),"",'2. Narrative'!AJ7) | H12: =IF(ISBLANK('2. Narrative'!AP7),"",'2. Narrative'!AP7) | I12: =IF(AND(ISNUMBER(SEARCH("Activity",$B12)),COUNTIF($D12:$H12,"Complete")>0),"yes","no") -> no | J12: =IF(AND(ISNUMBER(SEARCH("Output",$B12)),COUNTIF($D12:$H12,"Complete")>0),"yes","no") -> no | K12: =IF(AND(ISNUMBER(SEARCH("Outcome",$B12)),COUNTIF($D12:$H12,"Complete")>0),"yes","no") -> no | M12: =IF('INT-Pivots'!AT6="","",IF('INT-Pivots'!AT6="0","",'INT-Pivots'!AT6)) -> Activity 1.2.1 A long-term, integrated comprehensive, gender-sensitive and inclusive 'Sustainable Low-Carbon Transport Planning' document prepared for Sri Lanka | N12: =IF('INT-Pivots'!AU6="","",IF('INT-Pivots'!AU6="0","",'INT-Pivots'!AU6)) -> Staff and Other Personnel Costs | O12: =IF('INT-Pivots'!BA6="","",IF('INT-Pivots'!BA6="0","",'INT-Pivots'!BA6)) -> 25000 | P12: =SUM(Q12:U12) -> 38260 | Q12: =IF(ISBLANK('3. Expenditures'!L6),0,'3. Expenditures'!L6) -> 0 | R12: =IF(ISBLANK('3. Expenditures'!N6),0,'3. Expenditures'!N6) -> 38260 | S12: =IF(ISBLANK('3. Expenditures'!P6),0,'3. Expenditures'!P6) -> 0 | T12: =IF(ISBLANK('3. Expenditures'!R6),0,'3. Expenditures'!R6) -> 0 | U12: =IF(ISBLANK('3. Expenditures'!T6),0,'3. Expenditures'!T6) -> 0 | W12: Contractual Services | X12: =SUMIF($N$12:$N$210,$W12,$O$12:$O$236) -> 79000 | Y12: =SUMIF($N$12:$N$210,$W12,$P$12:$P$236) -> 6517 | Z12: =IF(X12="","",IF(ISERROR((Y12-X12)/X12),"",(Y12-X12)/X12)) -> -0.91750633
B13: =IF('INT-Pivots'!G8="","",'INT-Pivots'!G8) -> Activity 1.2.2 Training modules developed and training programs delivered on 'Long-term Sustainable Low-carbon Transport Planning' to government and private sector stakeholders | C13: =IF('INT-Pivots'!K8="","",IF('INT-Pivots'!K8="(blank)","Project end",VALUE('INT-Pivots'!K8))) -> Project end | D13: =IF(ISBLANK('2. Narrative'!R8),"",'2. Narrative'!R8) -> On track | E13: =IF(ISBLANK('2. Narrative'!X8),"",'2. Narrative'!X8) -> On track | F13: =IF(ISBLANK('2. Narrative'!AD8),"",'2. Narrative'!AD8) | G13: =IF(ISBLANK('2. Narrative'!AJ8),"",'2. Narrative'!AJ8) | H13: =IF(ISBLANK('2. Narrative'!AP8),"",'2. Narrative'!AP8) | I13: =IF(AND(ISNUMBER(SEARCH("Activity",$B13)),COUNTIF($D13:$H13,"Complete")>0),"yes","no") -> no | J13: =IF(AND(ISNUMBER(SEARCH("Output",$B13)),COUNTIF($D13:$H13,"Complete")>0),"yes","no") -> no | K13: =IF(AND(ISNUMBER(SEARCH("Outcome",$B13)),COUNTIF($D13:$H13,"Complete")>0),"yes","no") -> no | M13: =IF('INT-Pivots'!AT7="","",IF('INT-Pivots'!AT7="0","",'INT-Pivots'!AT7)) -> Activity 1.2.1 A long-term, integrated comprehensive, gender-sensitive and inclusive 'Sustainable Low-Carbon Transport Planning' document prepared for Sri Lanka | N13: =IF('INT-Pivots'!AU7="","",IF('INT-Pivots'!AU7="0","",'INT-Pivots'!AU7)) -> Staff and Other Personnel Costs | O13: =IF('INT-Pivots'!BA7="","",IF('INT-Pivots'!BA7="0","",'INT-Pivots'!BA7)) -> 12000 | P13: =SUM(Q13:U13) -> 13033 | Q13: =IF(ISBLANK('3. Expenditures'!L7),0,'3. Expenditures'!L7) -> 0 | R13: =IF(ISBLANK('3. Expenditures'!N7),0,'3. Expenditures'!N7) -> 13033 | S13: =IF(ISBLANK('3. Expenditures'!P7),0,'3. Expenditures'!P7) -> 0 | T13: =IF(ISBLANK('3. Expenditures'!R7),0,'3. Expenditures'!R7) -> 0 | U13: =IF(ISBLANK('3. Expenditures'!T7),0,'3. Expenditures'!T7) -> 0 | W13: Equipment Vehicles and Furniture | X13: =SUMIF($N$12:$N$210,$W13,$O$12:$O$236) -> 225000 | Y13: =SUMIF($N$12:$N$210,$W13,$P$12:$P$236) -> 0 | Z13: =IF(X13="","",IF(ISERROR((Y13-X13)/X13),"",(Y13-X13)/X13)) -> -1
B14: =IF('INT-Pivots'!G9="","",'INT-Pivots'!G9) -> Output 1.3 Developing a comprehensive policy, regulatory and guidelines framework to enable e-bus deployment in Sri Lanka for public transport for the Ministry of Transport and Highways | C14: =IF('INT-Pivots'!K9="","",IF('INT-Pivots'!K9="(blank)","Project end",VALUE('INT-Pivots'!K9))) -> 45838 | D14: =IF(ISBLANK('2. Narrative'!R9),"",'2. Narrative'!R9) -> On track | E14: =IF(ISBLANK('2. Narrative'!X9),"",'2. Narrative'!X9) -> Delayed | F14: =IF(ISBLANK('2. Narrative'!AD9),"",'2. Narrative'!AD9) | G14: =IF(ISBLANK('2. Narrative'!AJ9),"",'2. Narrative'!AJ9) | H14: =IF(ISBLANK('2. Narrative'!AP9),"",'2. Narrative'!AP9) | I14: =IF(AND(ISNUMBER(SEARCH("Activity",$B14)),COUNTIF($D14:$H14,"Complete")>0),"yes","no") -> no | J14: =IF(AND(ISNUMBER(SEARCH("Output",$B14)),COUNTIF($D14:$H14,"Complete")>0),"yes","no") -> no | K14: =IF(AND(ISNUMBER(SEARCH("Outcome",$B14)),COUNTIF($D14:$H14,"Complete")>0),"yes","no") -> no | M14: =IF('INT-Pivots'!AT8="","",IF('INT-Pivots'!AT8="0","",'INT-Pivots'!AT8)) -> Activity 1.2.1 A long-term, integrated comprehensive, gender-sensitive and inclusive 'Sustainable Low-Carbon Transport Planning' document prepared for Sri Lanka | N14: =IF('INT-Pivots'!AU8="","",IF('INT-Pivots'!AU8="0","",'INT-Pivots'!AU8)) -> Travel | O14: =IF('INT-Pivots'!BA8="","",IF('INT-Pivots'!BA8="0","",'INT-Pivots'!BA8)) -> 500 | P14: =SUM(Q14:U14) -> 0 | Q14: =IF(ISBLANK('3. Expenditures'!L8),0,'3. Expenditures'!L8) -> 0 | R14: =IF(ISBLANK('3. Expenditures'!N8),0,'3. Expenditures'!N8) -> 0 | S14: =IF(ISBLANK('3. Expenditures'!P8),0,'3. Expenditures'!P8) -> 0 | T14: =IF(ISBLANK('3. Expenditures'!R8),0,'3. Expenditures'!R8) -> 0 | U14: =IF(ISBLANK('3. Expenditures'!T8),0,'3. Expenditures'!T8) -> 0 | W14: Operating and Other Direct Costs | X14: =SUMIF($N$12:$N$210,$W14,$O$12:$O$236) -> 0 | Y14: =SUMIF($N$12:$N$210,$W14,$P$12:$P$236) -> 0 | Z14: =IF(X14="","",IF(ISERROR((Y14-X14)/X14),"",(Y14-X14)/X14))
B15: =IF('INT-Pivots'!G10="","",'INT-Pivots'!G10) -> Activity 1.3.1 A comprehensive, gender-sensitive and inclusive 'Electric Bus Mobility Policy and Regulatory Framework' is developed | C15: =IF('INT-Pivots'!K10="","",IF('INT-Pivots'!K10="(blank)","Project end",VALUE('INT-Pivots'!K10))) -> Project end | D15: =IF(ISBLANK('2. Narrative'!R10),"",'2. Narrative'!R10) -> On track | E15: =IF(ISBLANK('2. Narrative'!X10),"",'2. Narrative'!X10) -> On track | F15: =IF(ISBLANK('2. Narrative'!AD10),"",'2. Narrative'!AD10) | G15: =IF(ISBLANK('2. Narrative'!AJ10),"",'2. Narrative'!AJ10) | H15: =IF(ISBLANK('2. Narrative'!AP10),"",'2. Narrative'!AP10) | I15: =IF(AND(ISNUMBER(SEARCH("Activity",$B15)),COUNTIF($D15:$H15,"Complete")>0),"yes","no") -> no | J15: =IF(AND(ISNUMBER(SEARCH("Output",$B15)),COUNTIF($D15:$H15,"Complete")>0),"yes","no") -> no | K15: =IF(AND(ISNUMBER(SEARCH("Outcome",$B15)),COUNTIF($D15:$H15,"Complete")>0),"yes","no") -> no | M15: =IF('INT-Pivots'!AT9="","",IF('INT-Pivots'!AT9="0","",'INT-Pivots'!AT9)) -> Activity 1.2.1 A long-term, integrated comprehensive, gender-sensitive and inclusive 'Sustainable Low-Carbon Transport Planning' document prepared for Sri Lanka | N15: =IF('INT-Pivots'!AU9="","",IF('INT-Pivots'!AU9="0","",'INT-Pivots'!AU9)) -> Travel | O15: =IF('INT-Pivots'!BA9="","",IF('INT-Pivots'!BA9="0","",'INT-Pivots'!BA9)) -> 3840 | P15: =SUM(Q15:U15) -> 0 | Q15: =IF(ISBLANK('3. Expenditures'!L9),0,'3. Expenditures'!L9) -> 0 | R15: =IF(ISBLANK('3. Expenditures'!N9),0,'3. Expenditures'!N9) -> 0 | S15: =IF(ISBLANK('3. Expenditures'!P9),0,'3. Expenditures'!P9) -> 0 | T15: =IF(ISBLANK('3. Expenditures'!R9),0,'3. Expenditures'!R9) -> 0 | U15: =IF(ISBLANK('3. Expenditures'!T9),0,'3. Expenditures'!T9) -> 0 | W15: Staff and Other Personnel Costs | X15: =SUMIF($N$12:$N$210,$W15,$O$12:$O$236) -> 275600 | Y15: =SUMIF($N$12:$N$210,$W15,$P$12:$P$236) -> 130262 | Z15: =IF(X15="","",IF(ISERROR((Y15-X15)/X15),"",(Y15-X15)/X15)) -> -0.52735123
B16: =IF('INT-Pivots'!G11="","",'INT-Pivots'!G11) -> Output 1.4 Feasibility studies and analysis that lead to scaling up of low-carbon transport in Sri Lanka, and recommendations for disposal of old vehicles for the Ministry of Transport and Highways and Ministry of Environment | C16: =IF('INT-Pivots'!K11="","",IF('INT-Pivots'!K11="(blank)","Project end",VALUE('INT-Pivots'!K11))) -> 45626 | D16: =IF(ISBLANK('2. Narrative'!R11),"",'2. Narrative'!R11) -> On track | E16: =IF(ISBLANK('2. Narrative'!X11),"",'2. Narrative'!X11) -> On track | F16: =IF(ISBLANK('2. Narrative'!AD11),"",'2. Narrative'!AD11) | G16: =IF(ISBLANK('2. Narrative'!AJ11),"",'2. Narrative'!AJ11) | H16: =IF(ISBLANK('2. Narrative'!AP11),"",'2. Narrative'!AP11) | I16: =IF(AND(ISNUMBER(SEARCH("Activity",$B16)),COUNTIF($D16:$H16,"Complete")>0),"yes","no") -> no | J16: =IF(AND(ISNUMBER(SEARCH("Output",$B16)),COUNTIF($D16:$H16,"Complete")>0),"yes","no") -> no | K16: =IF(AND(ISNUMBER(SEARCH("Outcome",$B16)),COUNTIF($D16:$H16,"Complete")>0),"yes","no") -> no | M16: =IF('INT-Pivots'!AT10="","",IF('INT-Pivots'!AT10="0","",'INT-Pivots'!AT10)) -> Activity 1.2.1 A long-term, integrated comprehensive, gender-sensitive and inclusive 'Sustainable Low-Carbon Transport Planning' document prepared for Sri Lanka | N16: =IF('INT-Pivots'!AU10="","",IF('INT-Pivots'!AU10="0","",'INT-Pivots'!AU10)) -> Travel | O16: =IF('INT-Pivots'!BA10="","",IF('INT-Pivots'!BA10="0","",'INT-Pivots'!BA10)) -> 1220 | P16: =SUM(Q16:U16) -> 0 | Q16: =IF(ISBLANK('3. Expenditures'!L10),0,'3. Expenditures'!L10) -> 0 | R16: =IF(ISBLANK('3. Expenditures'!N10),0,'3. Expenditures'!N10) -> 0 | S16: =IF(ISBLANK('3. Expenditures'!P10),0,'3. Expenditures'!P10) -> 0 | T16: =IF(ISBLANK('3. Expenditures'!R10),0,'3. Expenditures'!R10) -> 0 | U16: =IF(ISBLANK('3. Expenditures'!T10),0,'3. Expenditures'!T10) -> 0 | W16: Supplies Commodities and Materials | X16: =SUMIF($N$12:$N$210,$W16,$O$12:$O$236) -> 12740 | Y16: =SUMIF($N$12:$N$210,$W16,$P$12:$P$236) -> 0 | Z16: =IF(X16="","",IF(ISERROR((Y16-X16)/X16),"",(Y16-X16)/X16)) -> -1
B17: =IF('INT-Pivots'!G12="","",'INT-Pivots'!G12) -> Activity 1.4.1 An 'Electricity Grid Impact Study due to Electric Vehicle Integration' is completed and approved | C17: =IF('INT-Pivots'!K12="","",IF('INT-Pivots'!K12="(blank)","Project end",VALUE('INT-Pivots'!K12))) -> Project end | D17: =IF(ISBLANK('2. Narrative'!R12),"",'2. Narrative'!R12) -> On track | E17: =IF(ISBLANK('2. Narrative'!X12),"",'2. Narrative'!X12) -> On track | F17: =IF(ISBLANK('2. Narrative'!AD12),"",'2. Narrative'!AD12) | G17: =IF(ISBLANK('2. Narrative'!AJ12),"",'2. Narrative'!AJ12) | H17: =IF(ISBLANK('2. Narrative'!AP12),"",'2. Narrative'!AP12) | I17: =IF(AND(ISNUMBER(SEARCH("Activity",$B17)),COUNTIF($D17:$H17,"Complete")>0),"yes","no") -> no | J17: =IF(AND(ISNUMBER(SEARCH("Output",$B17)),COUNTIF($D17:$H17,"Complete")>0),"yes","no") -> no | K17: =IF(AND(ISNUMBER(SEARCH("Outcome",$B17)),COUNTIF($D17:$H17,"Complete")>0),"yes","no") -> no | M17: =IF('INT-Pivots'!AT11="","",IF('INT-Pivots'!AT11="0","",'INT-Pivots'!AT11)) -> Activity 1.2.2 Training modules developed and training programs delivered on 'Long-term Sustainable Low-carbon Transport Planning' to government and private sector stakeholders | N17: =IF('INT-Pivots'!AU11="","",IF('INT-Pivots'!AU11="0","",'INT-Pivots'!AU11)) -> Staff and Other Personnel Costs | O17: =IF('INT-Pivots'!BA11="","",IF('INT-Pivots'!BA11="0","",'INT-Pivots'!BA11)) -> 5000 | P17: =SUM(Q17:U17) -> 0 | Q17: =IF(ISBLANK('3. Expenditures'!L11),0,'3. Expenditures'!L11) -> 0 | R17: =IF(ISBLANK('3. Expenditures'!N11),0,'3. Expenditures'!N11) -> 0 | S17: =IF(ISBLANK('3. Expenditures'!P11),0,'3. Expenditures'!P11) -> 0 | T17: =IF(ISBLANK('3. Expenditures'!R11),0,'3. Expenditures'!R11) -> 0 | U17: =IF(ISBLANK('3. Expenditures'!T11),0,'3. Expenditures'!T11) -> 0 | W17: Travel | X17: =SUMIF($N$12:$N$210,$W17,$O$12:$O$236) -> 47260 | Y17: =SUMIF($N$12:$N$210,$W17,$P$12:$P$236) -> 0 | Z17: =IF(X17="","",IF(ISERROR((Y17-X17)/X17),"",(Y17-X17)/X17)) -> -1
B18: =IF('INT-Pivots'!G13="","",'INT-Pivots'!G13) -> Activity 1.4.2 An analytical report on gaps for implementing low-carbon transport in Sri Lanka | C18: =IF('INT-Pivots'!K13="","",IF('INT-Pivots'!K13="(blank)","Project end",VALUE('INT-Pivots'!K13))) -> Project end | D18: =IF(ISBLANK('2. Narrative'!R13),"",'2. Narrative'!R13) -> On track | E18: =IF(ISBLANK('2. Narrative'!X13),"",'2. Narrative'!X13) -> Not started | F18: =IF(ISBLANK('2. Narrative'!AD13),"",'2. Narrative'!AD13) | G18: =IF(ISBLANK('2. Narrative'!AJ13),"",'2. Narrative'!AJ13) | H18: =IF(ISBLANK('2. Narrative'!AP13),"",'2. Narrative'!AP13) | I18: =IF(AND(ISNUMBER(SEARCH("Activity",$B18)),COUNTIF($D18:$H18,"Complete")>0),"yes","no") -> no | J18: =IF(AND(ISNUMBER(SEARCH("Output",$B18)),COUNTIF($D18:$H18,"Complete")>0),"yes","no") -> no | K18: =IF(AND(ISNUMBER(SEARCH("Outcome",$B18)),COUNTIF($D18:$H18,"Complete")>0),"yes","no") -> no | M18: =IF('INT-Pivots'!AT12="","",IF('INT-Pivots'!AT12="0","",'INT-Pivots'!AT12)) -> Activity 1.2.2 Training modules developed and training programs delivered on 'Long-term Sustainable Low-carbon Transport Planning' to government and private sector stakeholders | N18: =IF('INT-Pivots'!AU12="","",IF('INT-Pivots'!AU12="0","",'INT-Pivots'!AU12)) -> Staff and Other Personnel Costs | O18: =IF('INT-Pivots'!BA12="","",IF('INT-Pivots'!BA12="0","",'INT-Pivots'!BA12)) -> 4000 | P18: =SUM(Q18:U18) -> 0 | Q18: =IF(ISBLANK('3. Expenditures'!L12),0,'3. Expenditures'!L12) -> 0 | R18: =IF(ISBLANK('3. Expenditures'!N12),0,'3. Expenditures'!N12) -> 0 | S18: =IF(ISBLANK('3. Expenditures'!P12),0,'3. Expenditures'!P12) -> 0 | T18: =IF(ISBLANK('3. Expenditures'!R12),0,'3. Expenditures'!R12) -> 0 | U18: =IF(ISBLANK('3. Expenditures'!T12),0,'3. Expenditures'!T12) -> 0
B19: =IF('INT-Pivots'!G14="","",'INT-Pivots'!G14) -> Activity 1.4.3 A report on planning replacement of ICE buses for public transport in Sri Lanka | C19: =IF('INT-Pivots'!K14="","",IF('INT-Pivots'!K14="(blank)","Project end",VALUE('INT-Pivots'!K14))) -> Project end | D19: =IF(ISBLANK('2. Narrative'!R14),"",'2. Narrative'!R14) -> On track | E19: =IF(ISBLANK('2. Narrative'!X14),"",'2. Narrative'!X14) -> Not started | F19: =IF(ISBLANK('2. Narrative'!AD14),"",'2. Narrative'!AD14) | G19: =IF(ISBLANK('2. Narrative'!AJ14),"",'2. Narrative'!AJ14) | H19: =IF(ISBLANK('2. Narrative'!AP14),"",'2. Narrative'!AP14) | I19: =IF(AND(ISNUMBER(SEARCH("Activity",$B19)),COUNTIF($D19:$H19,"Complete")>0),"yes","no") -> no | J19: =IF(AND(ISNUMBER(SEARCH("Output",$B19)),COUNTIF($D19:$H19,"Complete")>0),"yes","no") -> no | K19: =IF(AND(ISNUMBER(SEARCH("Outcome",$B19)),COUNTIF($D19:$H19,"Complete")>0),"yes","no") -> no | M19: =IF('INT-Pivots'!AT13="","",IF('INT-Pivots'!AT13="0","",'INT-Pivots'!AT13)) -> Activity 1.2.2 Training modules developed and training programs delivered on 'Long-term Sustainable Low-carbon Transport Planning' to government and private sector stakeholders | N19: =IF('INT-Pivots'!AU13="","",IF('INT-Pivots'!AU13="0","",'INT-Pivots'!AU13)) -> Supplies Commodities and Materials | O19: =IF('INT-Pivots'!BA13="","",IF('INT-Pivots'!BA13="0","",'INT-Pivots'!BA13)) -> 500 | P19: =SUM(Q19:U19) -> 0 | Q19: =IF(ISBLANK('3. Expenditures'!L13),0,'3. Expenditures'!L13) -> 0 | R19: =IF(ISBLANK('3. Expenditures'!N13),0,'3. Expenditures'!N13) -> 0 | S19: =IF(ISBLANK('3. Expenditures'!P13),0,'3. Expenditures'!P13) -> 0 | T19: =IF(ISBLANK('3. Expenditures'!R13),0,'3. Expenditures'!R13) -> 0 | U19: =IF(ISBLANK('3. Expenditures'!T13),0,'3. Expenditures'!T13) -> 0
B20: =IF('INT-Pivots'!G15="","",'INT-Pivots'!G15) -> Output 1.6 Programme Support | C20: =IF('INT-Pivots'!K15="","",IF('INT-Pivots'!K15="(blank)","Project end",VALUE('INT-Pivots'!K15))) -> 45716 | D20: =IF(ISBLANK('2. Narrative'!R15),"",'2. Narrative'!R15) -> Not started | E20: =IF(ISBLANK('2. Narrative'!X15),"",'2. Narrative'!X15) -> Not started | F20: =IF(ISBLANK('2. Narrative'!AD15),"",'2. Narrative'!AD15) | G20: =IF(ISBLANK('2. Narrative'!AJ15),"",'2. Narrative'!AJ15) | H20: =IF(ISBLANK('2. Narrative'!AP15),"",'2. Narrative'!AP15) | I20: =IF(AND(ISNUMBER(SEARCH("Activity",$B20)),COUNTIF($D20:$H20,"Complete")>0),"yes","no") -> no | J20: =IF(AND(ISNUMBER(SEARCH("Output",$B20)),COUNTIF($D20:$H20,"Complete")>0),"yes","no") -> no | K20: =IF(AND(ISNUMBER(SEARCH("Outcome",$B20)),COUNTIF($D20:$H20,"Complete")>0),"yes","no") -> no | M20: =IF('INT-Pivots'!AT14="","",IF('INT-Pivots'!AT14="0","",'INT-Pivots'!AT14)) -> Activity 1.2.2 Training modules developed and training programs delivered on 'Long-term Sustainable Low-carbon Transport Planning' to government and private sector stakeholders | N20: =IF('INT-Pivots'!AU14="","",IF('INT-Pivots'!AU14="0","",'INT-Pivots'!AU14)) -> Travel | O20: =IF('INT-Pivots'!BA14="","",IF('INT-Pivots'!BA14="0","",'INT-Pivots'!BA14)) -> 500 | P20: =SUM(Q20:U20) -> 0 | Q20: =IF(ISBLANK('3. Expenditures'!L14),0,'3. Expenditures'!L14) -> 0 | R20: =IF(ISBLANK('3. Expenditures'!N14),0,'3. Expenditures'!N14) -> 0 | S20: =IF(ISBLANK('3. Expenditures'!P14),0,'3. Expenditures'!P14) -> 0 | T20: =IF(ISBLANK('3. Expenditures'!R14),0,'3. Expenditures'!R14) -> 0 | U20: =IF(ISBLANK('3. Expenditures'!T14),0,'3. Expenditures'!T14) -> 0
B21: =IF('INT-Pivots'!G16="","",'INT-Pivots'!G16) -> Activity 1.6.1 Project Support | C21: =IF('INT-Pivots'!K16="","",IF('INT-Pivots'!K16="(blank)","Project end",VALUE('INT-Pivots'!K16))) -> Project end | D21: =IF(ISBLANK('2. Narrative'!R16),"",'2. Narrative'!R16) -> Not started | E21: =IF(ISBLANK('2. Narrative'!X16),"",'2. Narrative'!X16) -> Not started | F21: =IF(ISBLANK('2. Narrative'!AD16),"",'2. Narrative'!AD16) | G21: =IF(ISBLANK('2. Narrative'!AJ16),"",'2. Narrative'!AJ16) | H21: =IF(ISBLANK('2. Narrative'!AP16),"",'2. Narrative'!AP16) | I21: =IF(AND(ISNUMBER(SEARCH("Activity",$B21)),COUNTIF($D21:$H21,"Complete")>0),"yes","no") -> no | J21: =IF(AND(ISNUMBER(SEARCH("Output",$B21)),COUNTIF($D21:$H21,"Complete")>0),"yes","no") -> no | K21: =IF(AND(ISNUMBER(SEARCH("Outcome",$B21)),COUNTIF($D21:$H21,"Complete")>0),"yes","no") -> no | M21: =IF('INT-Pivots'!AT15="","",IF('INT-Pivots'!AT15="0","",'INT-Pivots'!AT15)) -> Activity 1.2.2 Training modules developed and training programs delivered on 'Long-term Sustainable Low-carbon Transport Planning' to government and private sector stakeholders | N21: =IF('INT-Pivots'!AU15="","",IF('INT-Pivots'!AU15="0","",'INT-Pivots'!AU15)) -> Travel | O21: =IF('INT-Pivots'!BA15="","",IF('INT-Pivots'!BA15="0","",'INT-Pivots'!BA15)) -> 1344 | P21: =SUM(Q21:U21) -> 0 | Q21: =IF(ISBLANK('3. Expenditures'!L15),0,'3. Expenditures'!L15) -> 0 | R21: =IF(ISBLANK('3. Expenditures'!N15),0,'3. Expenditures'!N15) -> 0 | S21: =IF(ISBLANK('3. Expenditures'!P15),0,'3. Expenditures'!P15) -> 0 | T21: =IF(ISBLANK('3. Expenditures'!R15),0,'3. Expenditures'!R15) -> 0 | U21: =IF(ISBLANK('3. Expenditures'!T15),0,'3. Expenditures'!T15) -> 0
B22: =IF('INT-Pivots'!G17="","",'INT-Pivots'!G17) -> Output 2.1 Technical, operational, financial, economic and regulatory analysis of electric bus mobility opportunity in Sri Lanka is completed | C22: =IF('INT-Pivots'!K17="","",IF('INT-Pivots'!K17="(blank)","Project end",VALUE('INT-Pivots'!K17))) -> 45899 | D22: =IF(ISBLANK('2. Narrative'!R17),"",'2. Narrative'!R17) -> Not started | E22: =IF(ISBLANK('2. Narrative'!X17),"",'2. Narrative'!X17) -> Delayed | F22: =IF(ISBLANK('2. Narrative'!AD17),"",'2. Narrative'!AD17) | G22: =IF(ISBLANK('2. Narrative'!AJ17),"",'2. Narrative'!AJ17) | H22: =IF(ISBLANK('2. Narrative'!AP17),"",'2. Narrative'!AP17) | I22: =IF(AND(ISNUMBER(SEARCH("Activity",$B22)),COUNTIF($D22:$H22,"Complete")>0),"yes","no") -> no | J22: =IF(AND(ISNUMBER(SEARCH("Output",$B22)),COUNTIF($D22:$H22,"Complete")>0),"yes","no") -> no | K22: =IF(AND(ISNUMBER(SEARCH("Outcome",$B22)),COUNTIF($D22:$H22,"Complete")>0),"yes","no") -> no | M22: =IF('INT-Pivots'!AT16="","",IF('INT-Pivots'!AT16="0","",'INT-Pivots'!AT16)) -> Activity 1.2.2 Training modules developed and training programs delivered on 'Long-term Sustainable Low-carbon Transport Planning' to government and private sector stakeholders | N22: =IF('INT-Pivots'!AU16="","",IF('INT-Pivots'!AU16="0","",'INT-Pivots'!AU16)) -> Travel | O22: =IF('INT-Pivots'!BA16="","",IF('INT-Pivots'!BA16="0","",'INT-Pivots'!BA16)) -> 610 | P22: =SUM(Q22:U22) -> 0 | Q22: =IF(ISBLANK('3. Expenditures'!L16),0,'3. Expenditures'!L16) -> 0 | R22: =IF(ISBLANK('3. Expenditures'!N16),0,'3. Expenditures'!N16) -> 0 | S22: =IF(ISBLANK('3. Expenditures'!P16),0,'3. Expenditures'!P16) -> 0 | T22: =IF(ISBLANK('3. Expenditures'!R16),0,'3. Expenditures'!R16) -> 0 | U22: =IF(ISBLANK('3. Expenditures'!T16),0,'3. Expenditures'!T16) -> 0
B23: =IF('INT-Pivots'!G18="","",'INT-Pivots'!G18) -> Activity 2.1.1Viability assessment of EV charging stations is completed and approved | C23: =IF('INT-Pivots'!K18="","",IF('INT-Pivots'!K18="(blank)","Project end",VALUE('INT-Pivots'!K18))) -> Project end | D23: =IF(ISBLANK('2. Narrative'!R18),"",'2. Narrative'!R18) -> Not started | E23: =IF(ISBLANK('2. Narrative'!X18),"",'2. Narrative'!X18) -> On track | F23: =IF(ISBLANK('2. Narrative'!AD18),"",'2. Narrative'!AD18) | G23: =IF(ISBLANK('2. Narrative'!AJ18),"",'2. Narrative'!AJ18) | H23: =IF(ISBLANK('2. Narrative'!AP18),"",'2. Narrative'!AP18) | I23: =IF(AND(ISNUMBER(SEARCH("Activity",$B23)),COUNTIF($D23:$H23,"Complete")>0),"yes","no") -> no | J23: =IF(AND(ISNUMBER(SEARCH("Output",$B23)),COUNTIF($D23:$H23,"Complete")>0),"yes","no") -> no | K23: =IF(AND(ISNUMBER(SEARCH("Outcome",$B23)),COUNTIF($D23:$H23,"Complete")>0),"yes","no") -> no | M23: =IF('INT-Pivots'!AT17="","",IF('INT-Pivots'!AT17="0","",'INT-Pivots'!AT17)) -> Activity 1.3.1 A comprehensive, gender-sensitive and inclusive 'Electric Bus Mobility Policy and Regulatory Framework' is developed | N23: =IF('INT-Pivots'!AU17="","",IF('INT-Pivots'!AU17="0","",'INT-Pivots'!AU17)) -> Staff and Other Personnel Costs | O23: =IF('INT-Pivots'!BA17="","",IF('INT-Pivots'!BA17="0","",'INT-Pivots'!BA17)) -> 25000 | P23: =SUM(Q23:U23) -> 16291 | Q23: =IF(ISBLANK('3. Expenditures'!L17),0,'3. Expenditures'!L17) -> 0 | R23: =IF(ISBLANK('3. Expenditures'!N17),0,'3. Expenditures'!N17) -> 16291 | S23: =IF(ISBLANK('3. Expenditures'!P17),0,'3. Expenditures'!P17) -> 0 | T23: =IF(ISBLANK('3. Expenditures'!R17),0,'3. Expenditures'!R17) -> 0 | U23: =IF(ISBLANK('3. Expenditures'!T17),0,'3. Expenditures'!T17) -> 0
B24: =IF('INT-Pivots'!G19="","",'INT-Pivots'!G19) -> Activity 2.1.2An Analytical gender (including elderly, children, specific needs commuter) specific report on safety, security, accessibility aspects of public transport buses in Sri Lanka | C24: =IF('INT-Pivots'!K19="","",IF('INT-Pivots'!K19="(blank)","Project end",VALUE('INT-Pivots'!K19))) -> Project end | D24: =IF(ISBLANK('2. Narrative'!R19),"",'2. Narrative'!R19) -> Not started | E24: =IF(ISBLANK('2. Narrative'!X19),"",'2. Narrative'!X19) -> On track | F24: =IF(ISBLANK('2. Narrative'!AD19),"",'2. Narrative'!AD19) | G24: =IF(ISBLANK('2. Narrative'!AJ19),"",'2. Narrative'!AJ19) | H24: =IF(ISBLANK('2. Narrative'!AP19),"",'2. Narrative'!AP19) | I24: =IF(AND(ISNUMBER(SEARCH("Activity",$B24)),COUNTIF($D24:$H24,"Complete")>0),"yes","no") -> no | J24: =IF(AND(ISNUMBER(SEARCH("Output",$B24)),COUNTIF($D24:$H24,"Complete")>0),"yes","no") -> no | K24: =IF(AND(ISNUMBER(SEARCH("Outcome",$B24)),COUNTIF($D24:$H24,"Complete")>0),"yes","no") -> no | M24: =IF('INT-Pivots'!AT18="","",IF('INT-Pivots'!AT18="0","",'INT-Pivots'!AT18)) -> Activity 1.3.1 A comprehensive, gender-sensitive and inclusive 'Electric Bus Mobility Policy and Regulatory Framework' is developed | N24: =IF('INT-Pivots'!AU18="","",IF('INT-Pivots'!AU18="0","",'INT-Pivots'!AU18)) -> Staff and Other Personnel Costs | O24: =IF('INT-Pivots'!BA18="","",IF('INT-Pivots'!BA18="0","",'INT-Pivots'!BA18)) -> 15000 | P24: =SUM(Q24:U24) -> 0 | Q24: =IF(ISBLANK('3. Expenditures'!L18),0,'3. Expenditures'!L18) -> 0 | R24: =IF(ISBLANK('3. Expenditures'!N18),0,'3. Expenditures'!N18) -> 0 | S24: =IF(ISBLANK('3. Expenditures'!P18),0,'3. Expenditures'!P18) -> 0 | T24: =IF(ISBLANK('3. Expenditures'!R18),0,'3. Expenditures'!R18) -> 0 | U24: =IF(ISBLANK('3. Expenditures'!T18),0,'3. Expenditures'!T18) -> 0
B25: =IF('INT-Pivots'!G20="","",'INT-Pivots'!G20) -> Output 2.2 Knowledge and capacity improved amongst local stakeholders (MoTH, MoP&E, NTC, WPRPTA, CMC, and public bus operators) on risks, technical standards, and operational issues of deployment of electric buses. All capacity building measures will include a certain minimum percentage of women trainees. | C25: =IF('INT-Pivots'!K20="","",IF('INT-Pivots'!K20="(blank)","Project end",VALUE('INT-Pivots'!K20))) -> 45991 | D25: =IF(ISBLANK('2. Narrative'!R20),"",'2. Narrative'!R20) -> Not started | E25: =IF(ISBLANK('2. Narrative'!X20),"",'2. Narrative'!X20) -> Delayed | F25: =IF(ISBLANK('2. Narrative'!AD20),"",'2. Narrative'!AD20) | G25: =IF(ISBLANK('2. Narrative'!AJ20),"",'2. Narrative'!AJ20) | H25: =IF(ISBLANK('2. Narrative'!AP20),"",'2. Narrative'!AP20) | I25: =IF(AND(ISNUMBER(SEARCH("Activity",$B25)),COUNTIF($D25:$H25,"Complete")>0),"yes","no") -> no | J25: =IF(AND(ISNUMBER(SEARCH("Output",$B25)),COUNTIF($D25:$H25,"Complete")>0),"yes","no") -> no | K25: =IF(AND(ISNUMBER(SEARCH("Outcome",$B25)),COUNTIF($D25:$H25,"Complete")>0),"yes","no") -> no | M25: =IF('INT-Pivots'!AT19="","",IF('INT-Pivots'!AT19="0","",'INT-Pivots'!AT19)) -> Activity 1.3.1 A comprehensive, gender-sensitive and inclusive 'Electric Bus Mobility Policy and Regulatory Framework' is developed | N25: =IF('INT-Pivots'!AU19="","",IF('INT-Pivots'!AU19="0","",'INT-Pivots'!AU19)) -> Travel | O25: =IF('INT-Pivots'!BA19="","",IF('INT-Pivots'!BA19="0","",'INT-Pivots'!BA19)) -> 1000 | P25: =SUM(Q25:U25) -> 0 | Q25: =IF(ISBLANK('3. Expenditures'!L19),0,'3. Expenditures'!L19) -> 0 | R25: =IF(ISBLANK('3. Expenditures'!N19),0,'3. Expenditures'!N19) -> 0 | S25: =IF(ISBLANK('3. Expenditures'!P19),0,'3. Expenditures'!P19) -> 0 | T25: =IF(ISBLANK('3. Expenditures'!R19),0,'3. Expenditures'!R19) -> 0 | U25: =IF(ISBLANK('3. Expenditures'!T19),0,'3. Expenditures'!T19) -> 0
B26: =IF('INT-Pivots'!G21="","",'INT-Pivots'!G21) -> Activity 2.2.1Training programs designed and delivered for government institutional stakeholders | C26: =IF('INT-Pivots'!K21="","",IF('INT-Pivots'!K21="(blank)","Project end",VALUE('INT-Pivots'!K21))) -> Project end | D26: =IF(ISBLANK('2. Narrative'!R21),"",'2. Narrative'!R21) -> On track | E26: =IF(ISBLANK('2. Narrative'!X21),"",'2. Narrative'!X21) -> On track | F26: =IF(ISBLANK('2. Narrative'!AD21),"",'2. Narrative'!AD21) | G26: =IF(ISBLANK('2. Narrative'!AJ21),"",'2. Narrative'!AJ21) | H26: =IF(ISBLANK('2. Narrative'!AP21),"",'2. Narrative'!AP21) | I26: =IF(AND(ISNUMBER(SEARCH("Activity",$B26)),COUNTIF($D26:$H26,"Complete")>0),"yes","no") -> no | J26: =IF(AND(ISNUMBER(SEARCH("Output",$B26)),COUNTIF($D26:$H26,"Complete")>0),"yes","no") -> no | K26: =IF(AND(ISNUMBER(SEARCH("Outcome",$B26)),COUNTIF($D26:$H26,"Complete")>0),"yes","no") -> no | M26: =IF('INT-Pivots'!AT20="","",IF('INT-Pivots'!AT20="0","",'INT-Pivots'!AT20)) -> Activity 1.3.1 A comprehensive, gender-sensitive and inclusive 'Electric Bus Mobility Policy and Regulatory Framework' is developed | N26: =IF('INT-Pivots'!AU20="","",IF('INT-Pivots'!AU20="0","",'INT-Pivots'!AU20)) -> Travel | O26: =IF('INT-Pivots'!BA20="","",IF('INT-Pivots'!BA20="0","",'INT-Pivots'!BA20)) -> 3840 | P26: =SUM(Q26:U26) -> 0 | Q26: =IF(ISBLANK('3. Expenditures'!L20),0,'3. Expenditures'!L20) -> 0 | R26: =IF(ISBLANK('3. Expenditures'!N20),0,'3. Expenditures'!N20) -> 0 | S26: =IF(ISBLANK('3. Expenditures'!P20),0,'3. Expenditures'!P20) -> 0 | T26: =IF(ISBLANK('3. Expenditures'!R20),0,'3. Expenditures'!R20) -> 0 | U26: =IF(ISBLANK('3. Expenditures'!T20),0,'3. Expenditures'!T20) -> 0
B27: =IF('INT-Pivots'!G22="","",'INT-Pivots'!G22) -> Output 3.1 Improved knowledge and capacity among local private stakeholders (private bus operator association, bus drivers’ and workshop technicians’ associations, and commercial banks/financial institutions/finance and insurance associations) on risks, technical standards, and operational issues of deployment of electric buses. All capacity building measures will include a certain minimum percentage of women trainees. | C27: =IF('INT-Pivots'!K22="","",IF('INT-Pivots'!K22="(blank)","Project end",VALUE('INT-Pivots'!K22))) -> 45961 | D27: =IF(ISBLANK('2. Narrative'!R22),"",'2. Narrative'!R22) -> Not started | E27: =IF(ISBLANK('2. Narrative'!X22),"",'2. Narrative'!X22) -> Delayed | F27: =IF(ISBLANK('2. Narrative'!AD22),"",'2. Narrative'!AD22) | G27: =IF(ISBLANK('2. Narrative'!AJ22),"",'2. Narrative'!AJ22) | H27: =IF(ISBLANK('2. Narrative'!AP22),"",'2. Narrative'!AP22) | I27: =IF(AND(ISNUMBER(SEARCH("Activity",$B27)),COUNTIF($D27:$H27,"Complete")>0),"yes","no") -> no | J27: =IF(AND(ISNUMBER(SEARCH("Output",$B27)),COUNTIF($D27:$H27,"Complete")>0),"yes","no") -> no | K27: =IF(AND(ISNUMBER(SEARCH("Outcome",$B27)),COUNTIF($D27:$H27,"Complete")>0),"yes","no") -> no | M27: =IF('INT-Pivots'!AT21="","",IF('INT-Pivots'!AT21="0","",'INT-Pivots'!AT21)) -> Activity 1.3.1 A comprehensive, gender-sensitive and inclusive 'Electric Bus Mobility Policy and Regulatory Framework' is developed | N27: =IF('INT-Pivots'!AU21="","",IF('INT-Pivots'!AU21="0","",'INT-Pivots'!AU21)) -> Travel | O27: =IF('INT-Pivots'!BA21="","",IF('INT-Pivots'!BA21="0","",'INT-Pivots'!BA21)) -> 1464 | P27: =SUM(Q27:U27) -> 0 | Q27: =IF(ISBLANK('3. Expenditures'!L21),0,'3. Expenditures'!L21) -> 0 | R27: =IF(ISBLANK('3. Expenditures'!N21),0,'3. Expenditures'!N21) -> 0 | S27: =IF(ISBLANK('3. Expenditures'!P21),0,'3. Expenditures'!P21) -> 0 | T27: =IF(ISBLANK('3. Expenditures'!R21),0,'3. Expenditures'!R21) -> 0 | U27: =IF(ISBLANK('3. Expenditures'!T21),0,'3. Expenditures'!T21) -> 0
B28: =IF('INT-Pivots'!G23="","",'INT-Pivots'!G23) -> Activity 3.1.1Training programs designed and delivered for commercial banks/financial institutions | C28: =IF('INT-Pivots'!K23="","",IF('INT-Pivots'!K23="(blank)","Project end",VALUE('INT-Pivots'!K23))) -> Project end | D28: =IF(ISBLANK('2. Narrative'!R23),"",'2. Narrative'!R23) -> Not started | E28: =IF(ISBLANK('2. Narrative'!X23),"",'2. Narrative'!X23) -> Not started | F28: =IF(ISBLANK('2. Narrative'!AD23),"",'2. Narrative'!AD23) | G28: =IF(ISBLANK('2. Narrative'!AJ23),"",'2. Narrative'!AJ23) | H28: =IF(ISBLANK('2. Narrative'!AP23),"",'2. Narrative'!AP23) | I28: =IF(AND(ISNUMBER(SEARCH("Activity",$B28)),COUNTIF($D28:$H28,"Complete")>0),"yes","no") -> no | J28: =IF(AND(ISNUMBER(SEARCH("Output",$B28)),COUNTIF($D28:$H28,"Complete")>0),"yes","no") -> no | K28: =IF(AND(ISNUMBER(SEARCH("Outcome",$B28)),COUNTIF($D28:$H28,"Complete")>0),"yes","no") -> no | M28: =IF('INT-Pivots'!AT22="","",IF('INT-Pivots'!AT22="0","",'INT-Pivots'!AT22)) -> Activity 1.4.1 An 'Electricity Grid Impact Study due to Electric Vehicle Integration' is completed and approved | N28: =IF('INT-Pivots'!AU22="","",IF('INT-Pivots'!AU22="0","",'INT-Pivots'!AU22)) -> Staff and Other Personnel Costs | O28: =IF('INT-Pivots'!BA22="","",IF('INT-Pivots'!BA22="0","",'INT-Pivots'!BA22)) -> 10000 | P28: =SUM(Q28:U28) -> 19884 | Q28: =IF(ISBLANK('3. Expenditures'!L22),0,'3. Expenditures'!L22) -> 0 | R28: =IF(ISBLANK('3. Expenditures'!N22),0,'3. Expenditures'!N22) -> 19884 | S28: =IF(ISBLANK('3. Expenditures'!P22),0,'3. Expenditures'!P22) -> 0 | T28: =IF(ISBLANK('3. Expenditures'!R22),0,'3. Expenditures'!R22) -> 0 | U28: =IF(ISBLANK('3. Expenditures'!T22),0,'3. Expenditures'!T22) -> 0
B29: =IF('INT-Pivots'!G24="","",'INT-Pivots'!G24) -> Activity 3.1.2Training programs designed and delivered to private bus operators and their bus drivers and workshop technicians | C29: =IF('INT-Pivots'!K24="","",IF('INT-Pivots'!K24="(blank)","Project end",VALUE('INT-Pivots'!K24))) -> Project end | D29: =IF(ISBLANK('2. Narrative'!R24),"",'2. Narrative'!R24) -> Not started | E29: =IF(ISBLANK('2. Narrative'!X24),"",'2. Narrative'!X24) -> Not started | F29: =IF(ISBLANK('2. Narrative'!AD24),"",'2. Narrative'!AD24) | G29: =IF(ISBLANK('2. Narrative'!AJ24),"",'2. Narrative'!AJ24) | H29: =IF(ISBLANK('2. Narrative'!AP24),"",'2. Narrative'!AP24) | I29: =IF(AND(ISNUMBER(SEARCH("Activity",$B29)),COUNTIF($D29:$H29,"Complete")>0),"yes","no") -> no | J29: =IF(AND(ISNUMBER(SEARCH("Output",$B29)),COUNTIF($D29:$H29,"Complete")>0),"yes","no") -> no | K29: =IF(AND(ISNUMBER(SEARCH("Outcome",$B29)),COUNTIF($D29:$H29,"Complete")>0),"yes","no") -> no | M29: =IF('INT-Pivots'!AT23="","",IF('INT-Pivots'!AT23="0","",'INT-Pivots'!AT23)) -> Activity 1.4.1 An 'Electricity Grid Impact Study due to Electric Vehicle Integration' is completed and approved | N29: =IF('INT-Pivots'!AU23="","",IF('INT-Pivots'!AU23="0","",'INT-Pivots'!AU23)) -> Staff and Other Personnel Costs | O29: =IF('INT-Pivots'!BA23="","",IF('INT-Pivots'!BA23="0","",'INT-Pivots'!BA23)) -> 8000 | P29: =SUM(Q29:U29) -> 0 | Q29: =IF(ISBLANK('3. Expenditures'!L23),0,'3. Expenditures'!L23) -> 0 | R29: =IF(ISBLANK('3. Expenditures'!N23),0,'3. Expenditures'!N23) -> 0 | S29: =IF(ISBLANK('3. Expenditures'!P23),0,'3. Expenditures'!P23) -> 0 | T29: =IF(ISBLANK('3. Expenditures'!R23),0,'3. Expenditures'!R23) -> 0 | U29: =IF(ISBLANK('3. Expenditures'!T23),0,'3. Expenditures'!T23) -> 0
... B54: =IF('INT-Pivots'!G49="","",'INT-Pivots'!G49) | C54: =IF('INT-Pivots'!K49="","",IF('INT-Pivots'!K49="(blank)","Project end",VALUE('INT-Pivots'!K49))) | D54: =IF(ISBLANK('2. Narrative'!R49),"",'2. Narrative'!R49) | E54: =IF(ISBLANK('2. Narrative'!X49),"",'2. Narrative'!X49) | F54: =IF(ISBLANK('2. Narrative'!AD49),"",'2. Narrative'!AD49) | G54: =IF(ISBLANK('2. Narrative'!AJ49),"",'2. Narrative'!AJ49) | H54: =IF(ISBLANK('2. Narrative'!AP49),"",'2. Narrative'!AP49) | I54: =IF(AND(ISNUMBER(SEARCH("Activity",$B54)),COUNTIF($D54:$H54,"Complete")>0),"yes","no") -> no | J54: =IF(AND(ISNUMBER(SEARCH("Output",$B54)),COUNTIF($D54:$H54,"Complete")>0),"yes","no") -> no | K54: =IF(AND(ISNUMBER(SEARCH("Outcome",$B54)),COUNTIF($D54:$H54,"Complete")>0),"yes","no") -> no | M54: =IF('INT-Pivots'!AT48="","",IF('INT-Pivots'!AT48="0","",'INT-Pivots'!AT48)) -> Activity 2.2.1Training programs designed and delivered for government institutional stakeholders | N54: =IF('INT-Pivots'!AU48="","",IF('INT-Pivots'!AU48="0","",'INT-Pivots'!AU48)) -> Travel | O54: =IF('INT-Pivots'!BA48="","",IF('INT-Pivots'!BA48="0","",'INT-Pivots'!BA48)) -> 1708 | P54: =SUM(Q54:U54) -> 0 | Q54: =IF(ISBLANK('3. Expenditures'!L48),0,'3. Expenditures'!L48) -> 0 | R54: =IF(ISBLANK('3. Expenditures'!N48),0,'3. Expenditures'!N48) -> 0 | S54: =IF(ISBLANK('3. Expenditures'!P48),0,'3. Expenditures'!P48) -> 0 | T54: =IF(ISBLANK('3. Expenditures'!R48),0,'3. Expenditures'!R48) -> 0 | U54: =IF(ISBLANK('3. Expenditures'!T48),0,'3. Expenditures'!T48) -> 0
B55: =IF('INT-Pivots'!G50="","",'INT-Pivots'!G50) | C55: =IF('INT-Pivots'!H50="","",'INT-Pivots'!H50) | D55: =IF('INT-Pivots'!I50="","",'INT-Pivots'!I50) | E55: =IF('INT-Pivots'!J50="","",'INT-Pivots'!J50) | F55: =IF('INT-Pivots'!K50="","",'INT-Pivots'!K50) | G55: =IF('INT-Pivots'!L50="","",'INT-Pivots'!L50) | H55: =IF('INT-Pivots'!M50="","",'INT-Pivots'!M50) | I55: =IF(AND(ISNUMBER(SEARCH("Activity",$B55)),COUNTIF($D55:$H55,"Complete")>0),"yes","no") -> no | J55: =IF(AND(ISNUMBER(SEARCH("Output",$B55)),COUNTIF($D55:$H55,"Complete")>0),"yes","no") -> no | K55: =IF(AND(ISNUMBER(SEARCH("Outcome",$B55)),COUNTIF($D55:$H55,"Complete")>0),"yes","no") -> no | M55: =IF('INT-Pivots'!AT49="","",IF('INT-Pivots'!AT49="0","",'INT-Pivots'!AT49)) -> Activity 3.1.1Training programs designed and delivered for commercial banks/financial institutions | N55: =IF('INT-Pivots'!AU49="","",IF('INT-Pivots'!AU49="0","",'INT-Pivots'!AU49)) -> Contractual Services | O55: =IF('INT-Pivots'!BA49="","",IF('INT-Pivots'!BA49="0","",'INT-Pivots'!BA49)) -> 2000 | P55: =SUM(Q55:U55) -> 6517 | Q55: =IF(ISBLANK('3. Expenditures'!L49),0,'3. Expenditures'!L49) -> 0 | R55: =IF(ISBLANK('3. Expenditures'!N49),0,'3. Expenditures'!N49) -> 6517 | S55: =IF(ISBLANK('3. Expenditures'!P49),0,'3. Expenditures'!P49) -> 0 | T55: =IF(ISBLANK('3. Expenditures'!R49),0,'3. Expenditures'!R49) -> 0 | U55: =IF(ISBLANK('3. Expenditures'!T49),0,'3. Expenditures'!T49) -> 0
B56: =IF('INT-Pivots'!G51="","",'INT-Pivots'!G51) | C56: =IF('INT-Pivots'!H51="","",'INT-Pivots'!H51) | D56: =IF('INT-Pivots'!I51="","",'INT-Pivots'!I51) | E56: =IF('INT-Pivots'!J51="","",'INT-Pivots'!J51) | F56: =IF('INT-Pivots'!K51="","",'INT-Pivots'!K51) | G56: =IF('INT-Pivots'!L51="","",'INT-Pivots'!L51) | H56: =IF('INT-Pivots'!M51="","",'INT-Pivots'!M51) | I56: =IF(AND(ISNUMBER(SEARCH("Activity",$B56)),COUNTIF($D56:$H56,"Complete")>0),"yes","no") -> no | J56: =IF(AND(ISNUMBER(SEARCH("Output",$B56)),COUNTIF($D56:$H56,"Complete")>0),"yes","no") -> no | K56: =IF(AND(ISNUMBER(SEARCH("Outcome",$B56)),COUNTIF($D56:$H56,"Complete")>0),"yes","no") -> no | M56: =IF('INT-Pivots'!AT50="","",IF('INT-Pivots'!AT50="0","",'INT-Pivots'!AT50)) -> Activity 3.1.1Training programs designed and delivered for commercial banks/financial institutions | N56: =IF('INT-Pivots'!AU50="","",IF('INT-Pivots'!AU50="0","",'INT-Pivots'!AU50)) -> Staff and Other Personnel Costs | O56: =IF('INT-Pivots'!BA50="","",IF('INT-Pivots'!BA50="0","",'INT-Pivots'!BA50)) -> 7500 | P56: =SUM(Q56:U56) -> 0 | Q56: =IF(ISBLANK('3. Expenditures'!L50),0,'3. Expenditures'!L50) -> 0 | R56: =IF(ISBLANK('3. Expenditures'!N50),0,'3. Expenditures'!N50) -> 0 | S56: =IF(ISBLANK('3. Expenditures'!P50),0,'3. Expenditures'!P50) -> 0 | T56: =IF(ISBLANK('3. Expenditures'!R50),0,'3. Expenditures'!R50) -> 0 | U56: =IF(ISBLANK('3. Expenditures'!T50),0,'3. Expenditures'!T50) -> 0
B57: =IF('INT-Pivots'!G52="","",'INT-Pivots'!G52) | C57: =IF('INT-Pivots'!H52="","",'INT-Pivots'!H52) | D57: =IF('INT-Pivots'!I52="","",'INT-Pivots'!I52) | E57: =IF('INT-Pivots'!J52="","",'INT-Pivots'!J52) | F57: =IF('INT-Pivots'!K52="","",'INT-Pivots'!K52) | G57: =IF('INT-Pivots'!L52="","",'INT-Pivots'!L52) | H57: =IF('INT-Pivots'!M52="","",'INT-Pivots'!M52) | I57: =IF(AND(ISNUMBER(SEARCH("Activity",$B57)),COUNTIF($D57:$H57,"Complete")>0),"yes","no") -> no | J57: =IF(AND(ISNUMBER(SEARCH("Output",$B57)),COUNTIF($D57:$H57,"Complete")>0),"yes","no") -> no | K57: =IF(AND(ISNUMBER(SEARCH("Outcome",$B57)),COUNTIF($D57:$H57,"Complete")>0),"yes","no") -> no | M57: =IF('INT-Pivots'!AT51="","",IF('INT-Pivots'!AT51="0","",'INT-Pivots'!AT51)) -> Activity 3.1.1Training programs designed and delivered for commercial banks/financial institutions | N57: =IF('INT-Pivots'!AU51="","",IF('INT-Pivots'!AU51="0","",'INT-Pivots'!AU51)) -> Staff and Other Personnel Costs | O57: =IF('INT-Pivots'!BA51="","",IF('INT-Pivots'!BA51="0","",'INT-Pivots'!BA51)) -> 6000 | P57: =SUM(Q57:U57) -> 0 | Q57: =IF(ISBLANK('3. Expenditures'!L51),0,'3. Expenditures'!L51) -> 0 | R57: =IF(ISBLANK('3. Expenditures'!N51),0,'3. Expenditures'!N51) -> 0 | S57: =IF(ISBLANK('3. Expenditures'!P51),0,'3. Expenditures'!P51) -> 0 | T57: =IF(ISBLANK('3. Expenditures'!R51),0,'3. Expenditures'!R51) -> 0 | U57: =IF(ISBLANK('3. Expenditures'!T51),0,'3. Expenditures'!T51) -> 0
B58: =IF('INT-Pivots'!G53="","",'INT-Pivots'!G53) | C58: =IF('INT-Pivots'!H53="","",'INT-Pivots'!H53) | D58: =IF('INT-Pivots'!I53="","",'INT-Pivots'!I53) | E58: =IF('INT-Pivots'!J53="","",'INT-Pivots'!J53) | F58: =IF('INT-Pivots'!K53="","",'INT-Pivots'!K53) | G58: =IF('INT-Pivots'!L53="","",'INT-Pivots'!L53) | H58: =IF('INT-Pivots'!M53="","",'INT-Pivots'!M53) | I58: =IF(AND(ISNUMBER(SEARCH("Activity",$B58)),COUNTIF($D58:$H58,"Complete")>0),"yes","no") -> no | J58: =IF(AND(ISNUMBER(SEARCH("Output",$B58)),COUNTIF($D58:$H58,"Complete")>0),"yes","no") -> no | K58: =IF(AND(ISNUMBER(SEARCH("Outcome",$B58)),COUNTIF($D58:$H58,"Complete")>0),"yes","no") -> no | M58: =IF('INT-Pivots'!AT52="","",IF('INT-Pivots'!AT52="0","",'INT-Pivots'!AT52)) -> Activity 3.1.1Training programs designed and delivered for commercial banks/financial institutions | N58: =IF('INT-Pivots'!AU52="","",IF('INT-Pivots'!AU52="0","",'INT-Pivots'!AU52)) -> Supplies Commodities and Materials | O58: =IF('INT-Pivots'!BA52="","",IF('INT-Pivots'!BA52="0","",'INT-Pivots'!BA52)) -> 1740 | P58: =SUM(Q58:U58) -> 0 | Q58: =IF(ISBLANK('3. Expenditures'!L52),0,'3. Expenditures'!L52) -> 0 | R58: =IF(ISBLANK('3. Expenditures'!N52),0,'3. Expenditures'!N52) -> 0 | S58: =IF(ISBLANK('3. Expenditures'!P52),0,'3. Expenditures'!P52) -> 0 | T58: =IF(ISBLANK('3. Expenditures'!R52),0,'3. Expenditures'!R52) -> 0 | U58: =IF(ISBLANK('3. Expenditures'!T52),0,'3. Expenditures'!T52) -> 0
B59: =IF('INT-Pivots'!G54="","",'INT-Pivots'!G54) | C59: =IF('INT-Pivots'!H54="","",'INT-Pivots'!H54) | D59: =IF('INT-Pivots'!I54="","",'INT-Pivots'!I54) | E59: =IF('INT-Pivots'!J54="","",'INT-Pivots'!J54) | F59: =IF('INT-Pivots'!K54="","",'INT-Pivots'!K54) | G59: =IF('INT-Pivots'!L54="","",'INT-Pivots'!L54) | H59: =IF('INT-Pivots'!M54="","",'INT-Pivots'!M54) | I59: =IF(AND(ISNUMBER(SEARCH("Activity",$B59)),COUNTIF($D59:$H59,"Complete")>0),"yes","no") -> no | J59: =IF(AND(ISNUMBER(SEARCH("Output",$B59)),COUNTIF($D59:$H59,"Complete")>0),"yes","no") -> no | K59: =IF(AND(ISNUMBER(SEARCH("Outcome",$B59)),COUNTIF($D59:$H59,"Complete")>0),"yes","no") -> no | M59: =IF('INT-Pivots'!AT53="","",IF('INT-Pivots'!AT53="0","",'INT-Pivots'!AT53)) -> Activity 3.1.1Training programs designed and delivered for commercial banks/financial institutions | N59: =IF('INT-Pivots'!AU53="","",IF('INT-Pivots'!AU53="0","",'INT-Pivots'!AU53)) -> Travel | O59: =IF('INT-Pivots'!BA53="","",IF('INT-Pivots'!BA53="0","",'INT-Pivots'!BA53)) -> 500 | P59: =SUM(Q59:U59) -> 0 | Q59: =IF(ISBLANK('3. Expenditures'!L53),0,'3. Expenditures'!L53) -> 0 | R59: =IF(ISBLANK('3. Expenditures'!N53),0,'3. Expenditures'!N53) -> 0 | S59: =IF(ISBLANK('3. Expenditures'!P53),0,'3. Expenditures'!P53) -> 0 | T59: =IF(ISBLANK('3. Expenditures'!R53),0,'3. Expenditures'!R53) -> 0 | U59: =IF(ISBLANK('3. Expenditures'!T53),0,'3. Expenditures'!T53) -> 0
B60: =IF('INT-Pivots'!G55="","",'INT-Pivots'!G55) | C60: =IF('INT-Pivots'!H55="","",'INT-Pivots'!H55) | D60: =IF('INT-Pivots'!I55="","",'INT-Pivots'!I55) | E60: =IF('INT-Pivots'!J55="","",'INT-Pivots'!J55) | F60: =IF('INT-Pivots'!K55="","",'INT-Pivots'!K55) | G60: =IF('INT-Pivots'!L55="","",'INT-Pivots'!L55) | H60: =IF('INT-Pivots'!M55="","",'INT-Pivots'!M55) | I60: =IF(AND(ISNUMBER(SEARCH("Activity",$B60)),COUNTIF($D60:$H60,"Complete")>0),"yes","no") -> no | J60: =IF(AND(ISNUMBER(SEARCH("Output",$B60)),COUNTIF($D60:$H60,"Complete")>0),"yes","no") -> no | K60: =IF(AND(ISNUMBER(SEARCH("Outcome",$B60)),COUNTIF($D60:$H60,"Complete")>0),"yes","no") -> no | M60: =IF('INT-Pivots'!AT54="","",IF('INT-Pivots'!AT54="0","",'INT-Pivots'!AT54)) -> Activity 3.1.1Training programs designed and delivered for commercial banks/financial institutions | N60: =IF('INT-Pivots'!AU54="","",IF('INT-Pivots'!AU54="0","",'INT-Pivots'!AU54)) -> Travel | O60: =IF('INT-Pivots'!BA54="","",IF('INT-Pivots'!BA54="0","",'INT-Pivots'!BA54)) -> 2880 | P60: =SUM(Q60:U60) -> 0 | Q60: =IF(ISBLANK('3. Expenditures'!L54),0,'3. Expenditures'!L54) -> 0 | R60: =IF(ISBLANK('3. Expenditures'!N54),0,'3. Expenditures'!N54) -> 0 | S60: =IF(ISBLANK('3. Expenditures'!P54),0,'3. Expenditures'!P54) -> 0 | T60: =IF(ISBLANK('3. Expenditures'!R54),0,'3. Expenditures'!R54) -> 0 | U60: =IF(ISBLANK('3. Expenditures'!T54),0,'3. Expenditures'!T54) -> 0
B61: =IF('INT-Pivots'!G56="","",'INT-Pivots'!G56) | C61: =IF('INT-Pivots'!H56="","",'INT-Pivots'!H56) | D61: =IF('INT-Pivots'!I56="","",'INT-Pivots'!I56) | E61: =IF('INT-Pivots'!J56="","",'INT-Pivots'!J56) | F61: =IF('INT-Pivots'!K56="","",'INT-Pivots'!K56) | G61: =IF('INT-Pivots'!L56="","",'INT-Pivots'!L56) | H61: =IF('INT-Pivots'!M56="","",'INT-Pivots'!M56) | I61: =IF(AND(ISNUMBER(SEARCH("Activity",$B61)),COUNTIF($D61:$H61,"Complete")>0),"yes","no") -> no | J61: =IF(AND(ISNUMBER(SEARCH("Output",$B61)),COUNTIF($D61:$H61,"Complete")>0),"yes","no") -> no | K61: =IF(AND(ISNUMBER(SEARCH("Outcome",$B61)),COUNTIF($D61:$H61,"Complete")>0),"yes","no") -> no | M61: =IF('INT-Pivots'!AT55="","",IF('INT-Pivots'!AT55="0","",'INT-Pivots'!AT55)) -> Activity 3.1.1Training programs designed and delivered for commercial banks/financial institutions | N61: =IF('INT-Pivots'!AU55="","",IF('INT-Pivots'!AU55="0","",'INT-Pivots'!AU55)) -> Travel | O61: =IF('INT-Pivots'!BA55="","",IF('INT-Pivots'!BA55="0","",'INT-Pivots'!BA55)) -> 1708 | P61: =SUM(Q61:U61) -> 0 | Q61: =IF(ISBLANK('3. Expenditures'!L55),0,'3. Expenditures'!L55) -> 0 | R61: =IF(ISBLANK('3. Expenditures'!N55),0,'3. Expenditures'!N55) -> 0 | S61: =IF(ISBLANK('3. Expenditures'!P55),0,'3. Expenditures'!P55) -> 0 | T61: =IF(ISBLANK('3. Expenditures'!R55),0,'3. Expenditures'!R55) -> 0 | U61: =IF(ISBLANK('3. Expenditures'!T55),0,'3. Expenditures'!T55) -> 0
B62: =IF('INT-Pivots'!G57="","",'INT-Pivots'!G57) | C62: =IF('INT-Pivots'!H57="","",'INT-Pivots'!H57) | D62: =IF('INT-Pivots'!I57="","",'INT-Pivots'!I57) | E62: =IF('INT-Pivots'!J57="","",'INT-Pivots'!J57) | F62: =IF('INT-Pivots'!K57="","",'INT-Pivots'!K57) | G62: =IF('INT-Pivots'!L57="","",'INT-Pivots'!L57) | H62: =IF('INT-Pivots'!M57="","",'INT-Pivots'!M57) | I62: =IF(AND(ISNUMBER(SEARCH("Activity",$B62)),COUNTIF($D62:$H62,"Complete")>0),"yes","no") -> no | J62: =IF(AND(ISNUMBER(SEARCH("Output",$B62)),COUNTIF($D62:$H62,"Complete")>0),"yes","no") -> no | K62: =IF(AND(ISNUMBER(SEARCH("Outcome",$B62)),COUNTIF($D62:$H62,"Complete")>0),"yes","no") -> no | M62: =IF('INT-Pivots'!AT56="","",IF('INT-Pivots'!AT56="0","",'INT-Pivots'!AT56)) -> Activity 3.1.2Training programs designed and delivered to private bus operators and their bus drivers and workshop technicians | N62: =IF('INT-Pivots'!AU56="","",IF('INT-Pivots'!AU56="0","",'INT-Pivots'!AU56)) -> Contractual Services | O62: =IF('INT-Pivots'!BA56="","",IF('INT-Pivots'!BA56="0","",'INT-Pivots'!BA56)) -> 2000 | P62: =SUM(Q62:U62) -> 0 | Q62: =IF(ISBLANK('3. Expenditures'!L56),0,'3. Expenditures'!L56) -> 0 | R62: =IF(ISBLANK('3. Expenditures'!N56),0,'3. Expenditures'!N56) -> 0 | S62: =IF(ISBLANK('3. Expenditures'!P56),0,'3. Expenditures'!P56) -> 0 | T62: =IF(ISBLANK('3. Expenditures'!R56),0,'3. Expenditures'!R56) -> 0 | U62: =IF(ISBLANK('3. Expenditures'!T56),0,'3. Expenditures'!T56) -> 0
B63: =IF('INT-Pivots'!G58="","",'INT-Pivots'!G58) | C63: =IF('INT-Pivots'!H58="","",'INT-Pivots'!H58) | D63: =IF('INT-Pivots'!I58="","",'INT-Pivots'!I58) | E63: =IF('INT-Pivots'!J58="","",'INT-Pivots'!J58) | F63: =IF('INT-Pivots'!K58="","",'INT-Pivots'!K58) | G63: =IF('INT-Pivots'!L58="","",'INT-Pivots'!L58) | H63: =IF('INT-Pivots'!M58="","",'INT-Pivots'!M58) | I63: =IF(AND(ISNUMBER(SEARCH("Activity",$B63)),COUNTIF($D63:$H63,"Complete")>0),"yes","no") -> no | J63: =IF(AND(ISNUMBER(SEARCH("Output",$B63)),COUNTIF($D63:$H63,"Complete")>0),"yes","no") -> no | K63: =IF(AND(ISNUMBER(SEARCH("Outcome",$B63)),COUNTIF($D63:$H63,"Complete")>0),"yes","no") -> no | M63: =IF('INT-Pivots'!AT57="","",IF('INT-Pivots'!AT57="0","",'INT-Pivots'!AT57)) -> Activity 3.1.2Training programs designed and delivered to private bus operators and their bus drivers and workshop technicians | N63: =IF('INT-Pivots'!AU57="","",IF('INT-Pivots'!AU57="0","",'INT-Pivots'!AU57)) -> Staff and Other Personnel Costs | O63: =IF('INT-Pivots'!BA57="","",IF('INT-Pivots'!BA57="0","",'INT-Pivots'!BA57)) -> 15000 | P63: =SUM(Q63:U63) -> 0 | Q63: =IF(ISBLANK('3. Expenditures'!L57),0,'3. Expenditures'!L57) -> 0 | R63: =IF(ISBLANK('3. Expenditures'!N57),0,'3. Expenditures'!N57) -> 0 | S63: =IF(ISBLANK('3. Expenditures'!P57),0,'3. Expenditures'!P57) -> 0 | T63: =IF(ISBLANK('3. Expenditures'!R57),0,'3. Expenditures'!R57) -> 0 | U63: =IF(ISBLANK('3. Expenditures'!T57),0,'3. Expenditures'!T57) -> 0
B64: =IF('INT-Pivots'!G59="","",'INT-Pivots'!G59) | C64: =IF('INT-Pivots'!H59="","",'INT-Pivots'!H59) | D64: =IF('INT-Pivots'!I59="","",'INT-Pivots'!I59) | E64: =IF('INT-Pivots'!J59="","",'INT-Pivots'!J59) | F64: =IF('INT-Pivots'!K59="","",'INT-Pivots'!K59) | G64: =IF('INT-Pivots'!L59="","",'INT-Pivots'!L59) | H64: =IF('INT-Pivots'!M59="","",'INT-Pivots'!M59) | I64: =IF(AND(ISNUMBER(SEARCH("Activity",$B64)),COUNTIF($D64:$H64,"Complete")>0),"yes","no") -> no | J64: =IF(AND(ISNUMBER(SEARCH("Output",$B64)),COUNTIF($D64:$H64,"Complete")>0),"yes","no") -> no | K64: =IF(AND(ISNUMBER(SEARCH("Outcome",$B64)),COUNTIF($D64:$H64,"Complete")>0),"yes","no") -> no | M64: =IF('INT-Pivots'!AT58="","",IF('INT-Pivots'!AT58="0","",'INT-Pivots'!AT58)) -> Activity 3.1.2Training programs designed and delivered to private bus operators and their bus drivers and workshop technicians | N64: =IF('INT-Pivots'!AU58="","",IF('INT-Pivots'!AU58="0","",'INT-Pivots'!AU58)) -> Staff and Other Personnel Costs | O64: =IF('INT-Pivots'!BA58="","",IF('INT-Pivots'!BA58="0","",'INT-Pivots'!BA58)) -> 8000 | P64: =SUM(Q64:U64) -> 0 | Q64: =IF(ISBLANK('3. Expenditures'!L58),0,'3. Expenditures'!L58) -> 0 | R64: =IF(ISBLANK('3. Expenditures'!N58),0,'3. Expenditures'!N58) -> 0 | S64: =IF(ISBLANK('3. Expenditures'!P58),0,'3. Expenditures'!P58) -> 0 | T64: =IF(ISBLANK('3. Expenditures'!R58),0,'3. Expenditures'!R58) -> 0 | U64: =IF(ISBLANK('3. Expenditures'!T58),0,'3. Expenditures'!T58) -> 0
B65: =IF('INT-Pivots'!G60="","",'INT-Pivots'!G60) | C65: =IF('INT-Pivots'!H60="","",'INT-Pivots'!H60) | D65: =IF('INT-Pivots'!I60="","",'INT-Pivots'!I60) | E65: =IF('INT-Pivots'!J60="","",'INT-Pivots'!J60) | F65: =IF('INT-Pivots'!K60="","",'INT-Pivots'!K60) | G65: =IF('INT-Pivots'!L60="","",'INT-Pivots'!L60) | H65: =IF('INT-Pivots'!M60="","",'INT-Pivots'!M60) | I65: =IF(AND(ISNUMBER(SEARCH("Activity",$B65)),COUNTIF($D65:$H65,"Complete")>0),"yes","no") -> no | J65: =IF(AND(ISNUMBER(SEARCH("Output",$B65)),COUNTIF($D65:$H65,"Complete")>0),"yes","no") -> no | K65: =IF(AND(ISNUMBER(SEARCH("Outcome",$B65)),COUNTIF($D65:$H65,"Complete")>0),"yes","no") -> no | M65: =IF('INT-Pivots'!AT59="","",IF('INT-Pivots'!AT59="0","",'INT-Pivots'!AT59)) -> Activity 3.1.2Training programs designed and delivered to private bus operators and their bus drivers and workshop technicians | N65: =IF('INT-Pivots'!AU59="","",IF('INT-Pivots'!AU59="0","",'INT-Pivots'!AU59)) -> Supplies Commodities and Materials | O65: =IF('INT-Pivots'!BA59="","",IF('INT-Pivots'!BA59="0","",'INT-Pivots'!BA59)) -> 2000 | P65: =SUM(Q65:U65) -> 0 | Q65: =IF(ISBLANK('3. Expenditures'!L59),0,'3. Expenditures'!L59) -> 0 | R65: =IF(ISBLANK('3. Expenditures'!N59),0,'3. Expenditures'!N59) -> 0 | S65: =IF(ISBLANK('3. Expenditures'!P59),0,'3. Expenditures'!P59) -> 0 | T65: =IF(ISBLANK('3. Expenditures'!R59),0,'3. Expenditures'!R59) -> 0 | U65: =IF(ISBLANK('3. Expenditures'!T59),0,'3. Expenditures'!T59) -> 0
B66: =IF('INT-Pivots'!G61="","",'INT-Pivots'!G61) | C66: =IF('INT-Pivots'!H61="","",'INT-Pivots'!H61) | D66: =IF('INT-Pivots'!I61="","",'INT-Pivots'!I61) | E66: =IF('INT-Pivots'!J61="","",'INT-Pivots'!J61) | F66: =IF('INT-Pivots'!K61="","",'INT-Pivots'!K61) | G66: =IF('INT-Pivots'!L61="","",'INT-Pivots'!L61) | H66: =IF('INT-Pivots'!M61="","",'INT-Pivots'!M61) | I66: =IF(AND(ISNUMBER(SEARCH("Activity",$B66)),COUNTIF($D66:$H66,"Complete")>0),"yes","no") -> no | J66: =IF(AND(ISNUMBER(SEARCH("Output",$B66)),COUNTIF($D66:$H66,"Complete")>0),"yes","no") -> no | K66: =IF(AND(ISNUMBER(SEARCH("Outcome",$B66)),COUNTIF($D66:$H66,"Complete")>0),"yes","no") -> no | M66: =IF('INT-Pivots'!AT60="","",IF('INT-Pivots'!AT60="0","",'INT-Pivots'!AT60)) -> Activity 3.1.2Training programs designed and delivered to private bus operators and their bus drivers and workshop technicians | N66: =IF('INT-Pivots'!AU60="","",IF('INT-Pivots'!AU60="0","",'INT-Pivots'!AU60)) -> Travel | O66: =IF('INT-Pivots'!BA60="","",IF('INT-Pivots'!BA60="0","",'INT-Pivots'!BA60)) -> 500 | P66: =SUM(Q66:U66) -> 0 | Q66: =IF(ISBLANK('3. Expenditures'!L60),0,'3. Expenditures'!L60) -> 0 | R66: =IF(ISBLANK('3. Expenditures'!N60),0,'3. Expenditures'!N60) -> 0 | S66: =IF(ISBLANK('3. Expenditures'!P60),0,'3. Expenditures'!P60) -> 0 | T66: =IF(ISBLANK('3. Expenditures'!R60),0,'3. Expenditures'!R60) -> 0 | U66: =IF(ISBLANK('3. Expenditures'!T60),0,'3. Expenditures'!T60) -> 0
... B89: =IF('INT-Pivots'!G84="","",'INT-Pivots'!G84) | C89: =IF('INT-Pivots'!H84="","",'INT-Pivots'!H84) | D89: =IF('INT-Pivots'!I84="","",'INT-Pivots'!I84) | E89: =IF('INT-Pivots'!J84="","",'INT-Pivots'!J84) | F89: =IF('INT-Pivots'!K84="","",'INT-Pivots'!K84) | G89: =IF('INT-Pivots'!L84="","",'INT-Pivots'!L84) | H89: =IF('INT-Pivots'!M84="","",'INT-Pivots'!M84) | I89: =IF(AND(ISNUMBER(SEARCH("Activity",$B89)),COUNTIF($D89:$H89,"Complete")>0),"yes","no") -> no | J89: =IF(AND(ISNUMBER(SEARCH("Output",$B89)),COUNTIF($D89:$H89,"Complete")>0),"yes","no") -> no | K89: =IF(AND(ISNUMBER(SEARCH("Outcome",$B89)),COUNTIF($D89:$H89,"Complete")>0),"yes","no") -> no | M89: =IF('INT-Pivots'!AT83="","",IF('INT-Pivots'!AT83="0","",'INT-Pivots'!AT83)) | N89: =IF('INT-Pivots'!AU83="","",IF('INT-Pivots'!AU83="0","",'INT-Pivots'!AU83)) | O89: =IF('INT-Pivots'!BA83="","",IF('INT-Pivots'!BA83="0","",'INT-Pivots'!BA83)) | P89: =SUM(Q89:U89) -> 0 | Q89: =IF(ISBLANK('3. Expenditures'!L83),0,'3. Expenditures'!L83) -> 0 | R89: =IF(ISBLANK('3. Expenditures'!N83),0,'3. Expenditures'!N83) -> 0 | S89: =IF(ISBLANK('3. Expenditures'!P83),0,'3. Expenditures'!P83) -> 0 | T89: =IF(ISBLANK('3. Expenditures'!R83),0,'3. Expenditures'!R83) -> 0 | U89: =IF(ISBLANK('3. Expenditures'!T83),0,'3. Expenditures'!T83) -> 0
...

Sheet 1.Signature page
B1: 1. Signature & submission page
B2: ADMINISTRATIVE INFORMATION | F2: INSTRUCTIONS
B3: Project title | C3: ='INT-Pivots'!BJ6 -> Enabling Environment for Electric Buses for Public Transport and their Pilot Deployment in Colombo, Sri Lanka (HDV-23-003) | F3: This page must be completed, signed and sent to the CCAC Secretariat each reporting period along with the completed Progress Report template in Excel. The Cover Page can be saved as a PDF or printed. Insert logo --Click "Insert" in the ribbon / tool bar --Click "Illustrations", then "Pictures" --Select the location of the logo --Select the image file (file such as JPG) and click "Insert" --Move and/or resize logo over top the red text Sign the cover page Option 1 - insert signature as image --Scan and save your signature as an image (JPG or PNG) --In the Progress Report template, select the cell into which you want to add your signature --Click "Insert" in the ribbon / tool bar --Click "Illustrations", then "Pictures" --Select the location of the signature --Select the image file and click "Insert" --Move and/or resize signature as needed Option 2 - sign digital or printed copy --Complete all required fields on the cover page (except signature) --Click "File" in the ribbon / tool bar --Click "Print" --Select your printer OR print to PDF
B4: Implementer | C4: UNDP Sri Lanka
B5: Co-implementers
B6: Agreement ID | C6: 24-035-HDV-23-003
B7: Name of contact person | C7: Buddika Hapuarachchi
C8: Buddika.Hapuarachchi@undp.org
